BEGIN:VCALENDAR
VERSION:2.0
PRODID:-//Future in Sight - ECPv6.15.20//NONSGML v1.0//EN
CALSCALE:GREGORIAN
METHOD:PUBLISH
X-ORIGINAL-URL:https://futureinsight.org
X-WR-CALDESC:Events for Future in Sight
REFRESH-INTERVAL;VALUE=DURATION:PT1H
X-Robots-Tag:noindex
X-PUBLISHED-TTL:PT1H
BEGIN:VTIMEZONE
TZID:America/New_York
BEGIN:DAYLIGHT
TZOFFSETFROM:-0500
TZOFFSETTO:-0400
TZNAME:EDT
DTSTART:20240310T070000
END:DAYLIGHT
BEGIN:STANDARD
TZOFFSETFROM:-0400
TZOFFSETTO:-0500
TZNAME:EST
DTSTART:20241103T060000
END:STANDARD
BEGIN:DAYLIGHT
TZOFFSETFROM:-0500
TZOFFSETTO:-0400
TZNAME:EDT
DTSTART:20250309T070000
END:DAYLIGHT
BEGIN:STANDARD
TZOFFSETFROM:-0400
TZOFFSETTO:-0500
TZNAME:EST
DTSTART:20251102T060000
END:STANDARD
BEGIN:DAYLIGHT
TZOFFSETFROM:-0500
TZOFFSETTO:-0400
TZNAME:EDT
DTSTART:20260308T070000
END:DAYLIGHT
BEGIN:STANDARD
TZOFFSETFROM:-0400
TZOFFSETTO:-0500
TZNAME:EST
DTSTART:20261101T060000
END:STANDARD
END:VTIMEZONE
BEGIN:VEVENT
DTSTART;TZID=America/New_York:20251119T130000
DTEND;TZID=America/New_York:20251119T160000
DTSTAMP:20260423T054355
CREATED:20241125T172713Z
LAST-MODIFIED:20241125T172912Z
UID:10000557-1763557200-1763568000@futureinsight.org
SUMMARY:The Apps Have It! Seeing AI/Lookout/BeMyEyes *ADULTS 55+ ONLY*
DESCRIPTION:Using beneficial apps provides access to print materials in many ways\, such as reading the mail\, identifying prescription bottles\, spices and cooking instructions\, reading menus\, and more! They also offer details in the world around us; finding bus stops\, identifying stains on clothing\, locating dropped medication\, and beyond!  This workshop will describe the layout and functionality of such apps\, as well as real world situations trying out the apps. \nThis workshop will be held in Keene\, NH. \nParticipants must live in NH\, be 55 or older\, be able to provide a recent eye report\, and have a corrected acuity no greater than 20/50. \nTo apply for a spot in an upcoming Tech Workshop\, contact 603-224-4039 or services@futureinsight.org.* \n*Space in these workshops is VERY limited. Someone from Future In Sight will be in contact to complete the paperwork necessary to ensure that you qualify. Please note that you are unable to register for these tech workshops through the same registration system as our other activities (Classy). If interested in applying\, please utilize the phone and email listed above. \nPresented as a partnership between: \n \nThese Tech Workshops are supported with federal funds from the Rehabilitation Service Administration\, hosted by Services for the Blind and Vision Impaired\, a service of the state’s Department of Education/Vocational Rehabilitation. Future In Sight cooperatively develops and presents these tech workshops with the state’s Older Individuals who are Blind or vision impaired program (OIB). For further information about OIB services\, call 1-800-581-6881.
URL:https://futureinsight.org/event/the-apps-have-it-seeing-ai-lookout-bemyeyes-adults-55-only
LOCATION:In-Person
CATEGORIES:Tech Trainings,Tech Trainings for Adults 55+
ATTACH;FMTTYPE=image/png:https://futureinsight.org/wp-content/uploads/2023/03/phone-1.png
END:VEVENT
END:VCALENDAR